BEGIN:VCALENDAR
VERSION:2.0
PRODID:-//Delicious Sounds Choir - ECPv6.15.13//NONSGML v1.0//EN
CALSCALE:GREGORIAN
METHOD:PUBLISH
X-WR-CALNAME:Delicious Sounds Choir
X-ORIGINAL-URL:https://delicioussoundschoir.co.uk
X-WR-CALDESC:Events for Delicious Sounds Choir
REFRESH-INTERVAL;VALUE=DURATION:PT1H
X-Robots-Tag:noindex
X-PUBLISHED-TTL:PT1H
BEGIN:VTIMEZONE
TZID:Europe/London
BEGIN:DAYLIGHT
TZOFFSETFROM:+0000
TZOFFSETTO:+0100
TZNAME:BST
DTSTART:20240331T010000
END:DAYLIGHT
BEGIN:STANDARD
TZOFFSETFROM:+0100
TZOFFSETTO:+0000
TZNAME:GMT
DTSTART:20241027T010000
END:STANDARD
BEGIN:DAYLIGHT
TZOFFSETFROM:+0000
TZOFFSETTO:+0100
TZNAME:BST
DTSTART:20250330T010000
END:DAYLIGHT
BEGIN:STANDARD
TZOFFSETFROM:+0100
TZOFFSETTO:+0000
TZNAME:GMT
DTSTART:20251026T010000
END:STANDARD
BEGIN:DAYLIGHT
TZOFFSETFROM:+0000
TZOFFSETTO:+0100
TZNAME:BST
DTSTART:20260329T010000
END:DAYLIGHT
BEGIN:STANDARD
TZOFFSETFROM:+0100
TZOFFSETTO:+0000
TZNAME:GMT
DTSTART:20261025T010000
END:STANDARD
BEGIN:DAYLIGHT
TZOFFSETFROM:+0000
TZOFFSETTO:+0100
TZNAME:BST
DTSTART:20270328T010000
END:DAYLIGHT
BEGIN:STANDARD
TZOFFSETFROM:+0100
TZOFFSETTO:+0000
TZNAME:GMT
DTSTART:20271031T010000
END:STANDARD
END:VTIMEZONE
BEGIN:VEVENT
DTSTART;TZID=Europe/London:20251004T110000
DTEND;TZID=Europe/London:20251004T113000
DTSTAMP:20260425T141027
CREATED:20250918T102523Z
LAST-MODIFIED:20250927T062533Z
UID:1544-1759575600-1759577400@delicioussoundschoir.co.uk
SUMMARY:Singing in the Library
DESCRIPTION:Join Delicious Sounds Choir in a free\, short\, uplifting performance \nin Southampton Central Library.  \nBook your place here. \nA collection will be made for the charity Read Easy. \n  \n                                                      \n  \n  \n 
URL:https://delicioussoundschoir.co.uk/event/singing-in-the-library-2/
LOCATION:Southampton Central Library\, Civic Centre\, Southampton\, Hampshire\, SO14 7LW\, United Kingdom
END:VEVENT
BEGIN:VEVENT
DTSTART;TZID=Europe/London:20260329T080000
DTEND;TZID=Europe/London:20260329T170000
DTSTAMP:20260425T141027
CREATED:20260329T163811Z
LAST-MODIFIED:20260329T163940Z
UID:1621-1774771200-1774803600@delicioussoundschoir.co.uk
SUMMARY:Free taster session
DESCRIPTION:Want to try our friendly\, a capella\, performing community choir? \nBook a free taster session on the first night of the Summer term\, \nMonday 13th April. \nChat with musical director Fiona Funnell to see if we’re a good fit for each other. \nPay for the term in advance. \nNo need to read music. \nThsi is seriously fun singing.
URL:https://delicioussoundschoir.co.uk/event/free-taster-session/
END:VEVENT
END:VCALENDAR