BEGIN:VCALENDAR
VERSION:2.0
PRODID:-//Delicious Sounds Choir - ECPv6.15.13//NONSGML v1.0//EN
CALSCALE:GREGORIAN
METHOD:PUBLISH
X-WR-CALNAME:Delicious Sounds Choir
X-ORIGINAL-URL:https://delicioussoundschoir.co.uk
X-WR-CALDESC:Events for Delicious Sounds Choir
REFRESH-INTERVAL;VALUE=DURATION:PT1H
X-Robots-Tag:noindex
X-PUBLISHED-TTL:PT1H
BEGIN:VTIMEZONE
TZID:Europe/London
BEGIN:DAYLIGHT
TZOFFSETFROM:+0000
TZOFFSETTO:+0100
TZNAME:BST
DTSTART:20140330T010000
END:DAYLIGHT
BEGIN:STANDARD
TZOFFSETFROM:+0100
TZOFFSETTO:+0000
TZNAME:GMT
DTSTART:20141026T010000
END:STANDARD
BEGIN:DAYLIGHT
TZOFFSETFROM:+0000
TZOFFSETTO:+0100
TZNAME:BST
DTSTART:20150329T010000
END:DAYLIGHT
BEGIN:STANDARD
TZOFFSETFROM:+0100
TZOFFSETTO:+0000
TZNAME:GMT
DTSTART:20151025T010000
END:STANDARD
BEGIN:DAYLIGHT
TZOFFSETFROM:+0000
TZOFFSETTO:+0100
TZNAME:BST
DTSTART:20160327T010000
END:DAYLIGHT
BEGIN:STANDARD
TZOFFSETFROM:+0100
TZOFFSETTO:+0000
TZNAME:GMT
DTSTART:20161030T010000
END:STANDARD
END:VTIMEZONE
BEGIN:VEVENT
DTSTART;TZID=Europe/London:20151214T193000
DTEND;TZID=Europe/London:20151214T213000
DTSTAMP:20260425T190801
CREATED:20151029T142715Z
LAST-MODIFIED:20151103T154716Z
UID:518-1450121400-1450128600@delicioussoundschoir.co.uk
SUMMARY:Last rehearsal
DESCRIPTION:
URL:https://delicioussoundschoir.co.uk/event/last-rehearsal/
LOCATION:God’s House Tower\, Southampton
END:VEVENT
BEGIN:VEVENT
DTSTART;TZID=Europe/London:20151207T193000
DTEND;TZID=Europe/London:20151207T213000
DTSTAMP:20260425T190801
CREATED:20151118T115529Z
LAST-MODIFIED:20151118T115529Z
UID:554-1449516600-1449523800@delicioussoundschoir.co.uk
SUMMARY:Rehearsal
DESCRIPTION:
URL:https://delicioussoundschoir.co.uk/event/rehearsal-5/
LOCATION:God’s House Tower\, Southampton
END:VEVENT
BEGIN:VEVENT
DTSTART;TZID=Europe/London:20151206T123000
DTEND;TZID=Europe/London:20151206T220000
DTSTAMP:20260425T190801
CREATED:20151029T141906Z
LAST-MODIFIED:20151029T142317Z
UID:512-1449405000-1449439200@delicioussoundschoir.co.uk
SUMMARY:Dorset Community Choir Festival
DESCRIPTION:
URL:https://delicioussoundschoir.co.uk/event/dorset-community-choir-festival/
LOCATION:Charlton Down\, Dorchester\, DT2 9UA\, United Kingdom
END:VEVENT
BEGIN:VEVENT
DTSTART;TZID=Europe/London:20151130T193000
DTEND;TZID=Europe/London:20151130T213000
DTSTAMP:20260425T190801
CREATED:20151118T115413Z
LAST-MODIFIED:20151118T115413Z
UID:550-1448911800-1448919000@delicioussoundschoir.co.uk
SUMMARY:Rehearsal
DESCRIPTION:
URL:https://delicioussoundschoir.co.uk/event/rehearsal-4/
LOCATION:God’s House Tower\, Southampton
END:VEVENT
BEGIN:VEVENT
DTSTART;TZID=Europe/London:20151123T193000
DTEND;TZID=Europe/London:20151123T213000
DTSTAMP:20260425T190801
CREATED:20151118T115319Z
LAST-MODIFIED:20151118T115319Z
UID:549-1448307000-1448314200@delicioussoundschoir.co.uk
SUMMARY:Rehearsal
DESCRIPTION:
URL:https://delicioussoundschoir.co.uk/event/rehearsal-3/
LOCATION:God’s House Tower\, Southampton
END:VEVENT
BEGIN:VEVENT
DTSTART;TZID=Europe/London:20151109T193000
DTEND;TZID=Europe/London:20151109T213000
DTSTAMP:20260425T190801
CREATED:20151029T141536Z
LAST-MODIFIED:20151029T141536Z
UID:511-1447097400-1447104600@delicioussoundschoir.co.uk
SUMMARY:Rehearsal
DESCRIPTION:
URL:https://delicioussoundschoir.co.uk/event/rehearsal/
LOCATION:God’s House Tower\, Southampton
END:VEVENT
BEGIN:VEVENT
DTSTART;TZID=Europe/London:20151102T193000
DTEND;TZID=Europe/London:20151102T213000
DTSTAMP:20260425T190801
CREATED:20151028T175403Z
LAST-MODIFIED:20151028T175403Z
UID:505-1446492600-1446499800@delicioussoundschoir.co.uk
SUMMARY:Rehearsal
DESCRIPTION:
URL:https://delicioussoundschoir.co.uk/event/rehearsal-2/
LOCATION:God’s House Tower\, Southampton
END:VEVENT
END:VCALENDAR