BEGIN:VCALENDAR
VERSION:2.0
PRODID:-//Delicious Sounds Choir - ECPv6.15.13//NONSGML v1.0//EN
CALSCALE:GREGORIAN
METHOD:PUBLISH
X-WR-CALNAME:Delicious Sounds Choir
X-ORIGINAL-URL:https://delicioussoundschoir.co.uk
X-WR-CALDESC:Events for Delicious Sounds Choir
REFRESH-INTERVAL;VALUE=DURATION:PT1H
X-Robots-Tag:noindex
X-PUBLISHED-TTL:PT1H
BEGIN:VTIMEZONE
TZID:Europe/London
BEGIN:DAYLIGHT
TZOFFSETFROM:+0000
TZOFFSETTO:+0100
TZNAME:BST
DTSTART:20160327T010000
END:DAYLIGHT
BEGIN:STANDARD
TZOFFSETFROM:+0100
TZOFFSETTO:+0000
TZNAME:GMT
DTSTART:20161030T010000
END:STANDARD
BEGIN:DAYLIGHT
TZOFFSETFROM:+0000
TZOFFSETTO:+0100
TZNAME:BST
DTSTART:20170326T010000
END:DAYLIGHT
BEGIN:STANDARD
TZOFFSETFROM:+0100
TZOFFSETTO:+0000
TZNAME:GMT
DTSTART:20171029T010000
END:STANDARD
BEGIN:DAYLIGHT
TZOFFSETFROM:+0000
TZOFFSETTO:+0100
TZNAME:BST
DTSTART:20180325T010000
END:DAYLIGHT
BEGIN:STANDARD
TZOFFSETFROM:+0100
TZOFFSETTO:+0000
TZNAME:GMT
DTSTART:20181028T010000
END:STANDARD
END:VTIMEZONE
BEGIN:VEVENT
DTSTART;TZID=Europe/London:20171009T193000
DTEND;TZID=Europe/London:20171009T213000
DTSTAMP:20260419T145725
CREATED:20170915T145627Z
LAST-MODIFIED:20170915T145627Z
UID:1118-1507577400-1507584600@delicioussoundschoir.co.uk
SUMMARY:Choir rehearsal
DESCRIPTION:Weekly rehearsal preparing for Winter concerts on Saturday 9th December and Monday 11th December
URL:https://delicioussoundschoir.co.uk/event/choir-rehearsal-4/
END:VEVENT
BEGIN:VEVENT
DTSTART;TZID=Europe/London:20171007T143000
DTEND;TZID=Europe/London:20171007T150000
DTSTAMP:20260419T145725
CREATED:20170915T152235Z
LAST-MODIFIED:20170918T141027Z
UID:1143-1507386600-1507388400@delicioussoundschoir.co.uk
SUMMARY:Performance in Guildhall Square
DESCRIPTION:DSC will join Sing Up children’s choir and Soton Voce in a rendition of ‘Singing in the City’ written by musical director Fiona Funnell. \nChoir will then perform more songs as part of Music in the City.
URL:https://delicioussoundschoir.co.uk/event/performance-in-guildhall-square/
END:VEVENT
BEGIN:VEVENT
DTSTART;TZID=Europe/London:20171007T103000
DTEND;TZID=Europe/London:20171007T110000
DTSTAMP:20260419T145725
CREATED:20170915T144017Z
LAST-MODIFIED:20170915T151910Z
UID:1107-1507372200-1507374000@delicioussoundschoir.co.uk
SUMMARY:Concert in the library
DESCRIPTION:Singing in a Library- shhh! \nDelicious Sounds Choir will do a short performance in Southampton Central Library to celebrate the beginning of National Libraries Week. \nThe concert is free. \nPlease book your seat here
URL:https://delicioussoundschoir.co.uk/event/1107/
LOCATION:Southampton Central Library\, Civic Centre\, Southampton\, Hampshire\, SO14 7LW\, United Kingdom
ORGANIZER;CN="Fiona Funnell":MAILTO:info@delicioussoundschoir.co.uk
END:VEVENT
BEGIN:VEVENT
DTSTART;TZID=Europe/London:20171002T193000
DTEND;TZID=Europe/London:20171002T213000
DTSTAMP:20260419T145725
CREATED:20170915T145356Z
LAST-MODIFIED:20170915T145356Z
UID:1116-1506972600-1506979800@delicioussoundschoir.co.uk
SUMMARY:Choir rehearsal
DESCRIPTION:Weekly rehearsal preparing for two short concerts on Saturday 7th October
URL:https://delicioussoundschoir.co.uk/event/choir-rehearsal-3/
END:VEVENT
BEGIN:VEVENT
DTSTART;TZID=Europe/London:20170925T193000
DTEND;TZID=Europe/London:20170925T213000
DTSTAMP:20260419T145725
CREATED:20170915T145249Z
LAST-MODIFIED:20170915T145249Z
UID:1114-1506367800-1506375000@delicioussoundschoir.co.uk
SUMMARY:Choir rehearsal
DESCRIPTION:Weekly rehearsal preparing for two short concerts on Saturday 7th October
URL:https://delicioussoundschoir.co.uk/event/choir-rehearsal-2/
END:VEVENT
BEGIN:VEVENT
DTSTART;TZID=Europe/London:20170918T193000
DTEND;TZID=Europe/London:20170918T213000
DTSTAMP:20260419T145725
CREATED:20170915T144403Z
LAST-MODIFIED:20170915T144602Z
UID:1112-1505763000-1505770200@delicioussoundschoir.co.uk
SUMMARY:Choir rehearsal
DESCRIPTION:Weekly rehearsal preparing for two short performances on Saturday 7th October.
URL:https://delicioussoundschoir.co.uk/event/choir-rehearsal/
LOCATION:St Mark’s Church Centre\, Archers Road\, SO15 2LA\, Archers Road\, Southampton\, Hampshire\, SO15 2LA\, United Kingdom
CATEGORIES:Rehearsal
END:VEVENT
BEGIN:VEVENT
DTSTART;TZID=Europe/London:20170911T193000
DTEND;TZID=Europe/London:20170911T213000
DTSTAMP:20260419T145725
CREATED:20170628T123744Z
LAST-MODIFIED:20170628T123744Z
UID:1094-1505158200-1505165400@delicioussoundschoir.co.uk
SUMMARY:Autumn term taster session
DESCRIPTION:Come and join Delicious Sounds Choir for a taster session at the beginning of term.
URL:https://delicioussoundschoir.co.uk/event/autumn-term-taster-session/
LOCATION:St Mark’s Church Centre\, Archers Road\, SO15 2LA\, Archers Road\, Southampton\, Hampshire\, SO15 2LA\, United Kingdom
END:VEVENT
BEGIN:VEVENT
DTSTART;TZID=Europe/London:20170723T150000
DTEND;TZID=Europe/London:20170723T170000
DTSTAMP:20260419T145725
CREATED:20170628T121119Z
LAST-MODIFIED:20170628T123221Z
UID:1090-1500822000-1500829200@delicioussoundschoir.co.uk
SUMMARY:Come-Unity Charity Tea and Concert
DESCRIPTION:Entertainment by Delicious Sounds Choir (all dressed up in vintage hats and frocks!) \nand \nSouthampton Brass Ensemble. \nTea\, sandwiches\, cakes. \nRaising funds for WaterAid. \nEntry by donation.
URL:https://delicioussoundschoir.co.uk/event/come-unity-charity-tea-and-concert/
LOCATION:Peartree Church Hall\, 80\, Peartree Road\, Bitterne\, Southampton\, Hampshire\, SO19 7GZ\, United Kingdom
END:VEVENT
BEGIN:VEVENT
DTSTART;TZID=Europe/London:20170717T193000
DTEND;TZID=Europe/London:20170717T213000
DTSTAMP:20260419T145725
CREATED:20170123T131513Z
LAST-MODIFIED:20170123T131513Z
UID:1005-1500319800-1500327000@delicioussoundschoir.co.uk
SUMMARY:Last choir for Summer term
DESCRIPTION:
URL:https://delicioussoundschoir.co.uk/event/last-choir-for-summer-term/
LOCATION:St Mark’s Hall\, Archers Road\, Southampton\, Hampshire\, SO15 2LU\, United Kingdom
END:VEVENT
BEGIN:VEVENT
DTSTART;TZID=Europe/London:20170710T193000
DTEND;TZID=Europe/London:20170710T213000
DTSTAMP:20260419T145725
CREATED:20170123T131419Z
LAST-MODIFIED:20170123T131419Z
UID:1003-1499715000-1499722200@delicioussoundschoir.co.uk
SUMMARY:Rehearsal
DESCRIPTION:
URL:https://delicioussoundschoir.co.uk/event/rehearsal-52/
LOCATION:St Mark’s Hall\, Archers Road\, Southampton\, Hampshire\, SO15 2LU\, United Kingdom
END:VEVENT
BEGIN:VEVENT
DTSTART;TZID=Europe/London:20170703T193000
DTEND;TZID=Europe/London:20170703T213000
DTSTAMP:20260419T145725
CREATED:20170123T131332Z
LAST-MODIFIED:20170123T131332Z
UID:1001-1499110200-1499117400@delicioussoundschoir.co.uk
SUMMARY:Rehearsal
DESCRIPTION:
URL:https://delicioussoundschoir.co.uk/event/rehearsal-51/
LOCATION:St Mark’s Hall\, Archers Road\, Southampton\, Hampshire\, SO15 2LU\, United Kingdom
END:VEVENT
BEGIN:VEVENT
DTSTART;TZID=Europe/London:20170626T193000
DTEND;TZID=Europe/London:20170626T213000
DTSTAMP:20260419T145725
CREATED:20170123T131240Z
LAST-MODIFIED:20170123T131240Z
UID:999-1498505400-1498512600@delicioussoundschoir.co.uk
SUMMARY:Rehearsal
DESCRIPTION:
URL:https://delicioussoundschoir.co.uk/event/rehearsal-50/
LOCATION:St Mark’s Hall\, Archers Road\, Southampton\, Hampshire\, SO15 2LU\, United Kingdom
END:VEVENT
BEGIN:VEVENT
DTSTART;TZID=Europe/London:20170619T193000
DTEND;TZID=Europe/London:20170619T213000
DTSTAMP:20260419T145725
CREATED:20170123T131150Z
LAST-MODIFIED:20170123T131150Z
UID:997-1497900600-1497907800@delicioussoundschoir.co.uk
SUMMARY:Rehearsal
DESCRIPTION:
URL:https://delicioussoundschoir.co.uk/event/rehearsal-49/
LOCATION:St Mark’s Hall\, Archers Road\, Southampton\, Hampshire\, SO15 2LU\, United Kingdom
END:VEVENT
BEGIN:VEVENT
DTSTART;TZID=Europe/London:20170612T193000
DTEND;TZID=Europe/London:20170612T213000
DTSTAMP:20260419T145725
CREATED:20170123T131050Z
LAST-MODIFIED:20170123T131050Z
UID:995-1497295800-1497303000@delicioussoundschoir.co.uk
SUMMARY:Rehearsal
DESCRIPTION:
URL:https://delicioussoundschoir.co.uk/event/rehearsal-48/
LOCATION:St Mark’s Hall\, Archers Road\, Southampton\, Hampshire\, SO15 2LU\, United Kingdom
END:VEVENT
BEGIN:VEVENT
DTSTART;TZID=Europe/London:20170605T193000
DTEND;TZID=Europe/London:20170605T213000
DTSTAMP:20260419T145725
CREATED:20170123T130959Z
LAST-MODIFIED:20170123T130959Z
UID:993-1496691000-1496698200@delicioussoundschoir.co.uk
SUMMARY:Rehearsal
DESCRIPTION:
URL:https://delicioussoundschoir.co.uk/event/rehearsal-47/
LOCATION:St Mark’s Hall\, Archers Road\, Southampton\, Hampshire\, SO15 2LU\, United Kingdom
END:VEVENT
BEGIN:VEVENT
DTSTART;VALUE=DATE:20170529
DTEND;VALUE=DATE:20170530
DTSTAMP:20260419T145725
CREATED:20170123T130903Z
LAST-MODIFIED:20170123T130903Z
UID:990-1496016000-1496102399@delicioussoundschoir.co.uk
SUMMARY:No choir - bank holiday
DESCRIPTION:
URL:https://delicioussoundschoir.co.uk/event/no-choir-bank-holiday/
END:VEVENT
BEGIN:VEVENT
DTSTART;TZID=Europe/London:20170522T193000
DTEND;TZID=Europe/London:20170522T213000
DTSTAMP:20260419T145725
CREATED:20170123T130809Z
LAST-MODIFIED:20170123T130809Z
UID:987-1495481400-1495488600@delicioussoundschoir.co.uk
SUMMARY:Rehearsal
DESCRIPTION:
URL:https://delicioussoundschoir.co.uk/event/rehearsal-46/
LOCATION:St Mark’s Hall\, Archers Road\, Southampton\, Hampshire\, SO15 2LU\, United Kingdom
END:VEVENT
BEGIN:VEVENT
DTSTART;TZID=Europe/London:20170515T193000
DTEND;TZID=Europe/London:20170515T213000
DTSTAMP:20260419T145725
CREATED:20170123T130719Z
LAST-MODIFIED:20170123T130719Z
UID:985-1494876600-1494883800@delicioussoundschoir.co.uk
SUMMARY:Rehearsal
DESCRIPTION:
URL:https://delicioussoundschoir.co.uk/event/rehearsal-45/
LOCATION:St Mark’s Hall\, Archers Road\, Southampton\, Hampshire\, SO15 2LU\, United Kingdom
END:VEVENT
BEGIN:VEVENT
DTSTART;TZID=Europe/London:20170508T193000
DTEND;TZID=Europe/London:20170508T213000
DTSTAMP:20260419T145725
CREATED:20170123T130629Z
LAST-MODIFIED:20170123T130629Z
UID:983-1494271800-1494279000@delicioussoundschoir.co.uk
SUMMARY:Rehearsal
DESCRIPTION:
URL:https://delicioussoundschoir.co.uk/event/rehearsal-44/
LOCATION:St Mark’s Hall\, Archers Road\, Southampton\, Hampshire\, SO15 2LU\, United Kingdom
END:VEVENT
BEGIN:VEVENT
DTSTART;TZID=Europe/London:20170507T123000
DTEND;TZID=Europe/London:20170507T210000
DTSTAMP:20260419T145725
CREATED:20170123T130237Z
LAST-MODIFIED:20170123T130237Z
UID:977-1494160200-1494190800@delicioussoundschoir.co.uk
SUMMARY:Dorset Community Choir
DESCRIPTION:
URL:https://delicioussoundschoir.co.uk/event/dorset-community-choir/
LOCATION:Charlton Down\, Dorchester\, DT2 9UA\, United Kingdom
END:VEVENT
BEGIN:VEVENT
DTSTART;VALUE=DATE:20170501
DTEND;VALUE=DATE:20170502
DTSTAMP:20260419T145725
CREATED:20170123T130534Z
LAST-MODIFIED:20170123T130534Z
UID:981-1493596800-1493683199@delicioussoundschoir.co.uk
SUMMARY:No choir - May Day bank holiday
DESCRIPTION:
URL:https://delicioussoundschoir.co.uk/event/no-choir-may-day-bank-holiday/
END:VEVENT
BEGIN:VEVENT
DTSTART;TZID=Europe/London:20170424T193000
DTEND;TZID=Europe/London:20170424T213000
DTSTAMP:20260419T145725
CREATED:20170123T130454Z
LAST-MODIFIED:20170123T130454Z
UID:979-1493062200-1493069400@delicioussoundschoir.co.uk
SUMMARY:First rehearsal of Summer Term
DESCRIPTION:
URL:https://delicioussoundschoir.co.uk/event/first-rehearsal-of-summer-term/
LOCATION:St Mark’s Hall\, Archers Road\, Southampton\, Hampshire\, SO15 2LU\, United Kingdom
END:VEVENT
BEGIN:VEVENT
DTSTART;TZID=Europe/London:20170403T193000
DTEND;TZID=Europe/London:20170403T213000
DTSTAMP:20260419T145725
CREATED:20170123T124822Z
LAST-MODIFIED:20170123T124822Z
UID:973-1491247800-1491255000@delicioussoundschoir.co.uk
SUMMARY:Last rehearsal of Spring term
DESCRIPTION:
URL:https://delicioussoundschoir.co.uk/event/last-rehearsal-of-spring-term/
LOCATION:St Mark’s Hall\, Archers Road\, Southampton\, Hampshire\, SO15 2LU\, United Kingdom
END:VEVENT
BEGIN:VEVENT
DTSTART;TZID=Europe/London:20170327T193000
DTEND;TZID=Europe/London:20170327T213000
DTSTAMP:20260419T145725
CREATED:20170123T124715Z
LAST-MODIFIED:20170123T124715Z
UID:971-1490643000-1490650200@delicioussoundschoir.co.uk
SUMMARY:Rehearsal
DESCRIPTION:
URL:https://delicioussoundschoir.co.uk/event/rehearsal-43/
LOCATION:St Mark’s Hall\, Archers Road\, Southampton\, Hampshire\, SO15 2LU\, United Kingdom
END:VEVENT
BEGIN:VEVENT
DTSTART;TZID=Europe/London:20170325T130000
DTEND;TZID=Europe/London:20170325T140000
DTSTAMP:20260419T145725
CREATED:20170215T125554Z
LAST-MODIFIED:20170215T130649Z
UID:1050-1490446800-1490450400@delicioussoundschoir.co.uk
SUMMARY:Rise Up! Free lunchtime concert
DESCRIPTION:Enjoy a feast of a capella harmonies with Delicious Sounds Choir. Songs to include ‘People Get ready’ by Curtis Mayfield\, ‘Zema’ – a rousing song from South Africa\, and ‘Rise Up’ by Pauline Down. \nClick here to book your free ticket
URL:https://delicioussoundschoir.co.uk/event/rise-up-free-lunchtime-concert/
LOCATION:Southampton Art Gallery
END:VEVENT
BEGIN:VEVENT
DTSTART;TZID=Europe/London:20170325T130000
DTEND;TZID=Europe/London:20170325T140000
DTSTAMP:20260419T145725
CREATED:20170123T131842Z
LAST-MODIFIED:20170123T131842Z
UID:1007-1490446800-1490450400@delicioussoundschoir.co.uk
SUMMARY:Free lunchtime concert
DESCRIPTION:
URL:https://delicioussoundschoir.co.uk/event/free-lunchtime-concert-2/
LOCATION:Southampton Art Gallery
END:VEVENT
BEGIN:VEVENT
DTSTART;TZID=Europe/London:20170320T193000
DTEND;TZID=Europe/London:20170320T213000
DTSTAMP:20260419T145725
CREATED:20170123T124622Z
LAST-MODIFIED:20170123T124622Z
UID:969-1490038200-1490045400@delicioussoundschoir.co.uk
SUMMARY:Rehearsal
DESCRIPTION:
URL:https://delicioussoundschoir.co.uk/event/rehearsal-42/
LOCATION:St Mark’s Hall\, Archers Road\, Southampton\, Hampshire\, SO15 2LU\, United Kingdom
END:VEVENT
BEGIN:VEVENT
DTSTART;TZID=Europe/London:20170315T193000
DTEND;TZID=Europe/London:20170315T213000
DTSTAMP:20260419T145725
CREATED:20170123T143817Z
LAST-MODIFIED:20170216T132147Z
UID:1012-1489606200-1489613400@delicioussoundschoir.co.uk
SUMMARY:Workshop with Brendan Taaffe
DESCRIPTION:​ \nWorkshop with Brendan Taaffe \nWednesday 15th March\, 2017 – 7.30 to 9.30pm \nCost in advance: £12.50 full/£10 low income. \nSt Mark’s Church\nOliver’s Battery Road South\,\nWinchester\,\nSO22 4EU \nBook here: http://www.singwinchester.com/workshops \n  \nJoin acclaimed American song leader and composer Brendan Taaffe in Winchester for a lovely evening of singing.  Brendan teaches a variety of music: American bluegrass\, gospel\, Appalachian ballads\, shape note\, songs learned during trips in Africa\, and his own wonderful compositions and arrangements.  Brendan will give you the chance to sing songs with compelling rhythms and evocative harmonies that come from community-based traditions that draw people together around the world. \nHe has led vocal workshops in many different countries\, and is the founder of Turtle Dove\, an organisation which runs singing camps and vocal workshops in America. \nBrendan is an experienced\, adaptable and charismatic leader: good humoured\, patient\, and has bags of energy! \nAll parts will be taught by ear and no experience is necessary. This workshop is open to all. \nBrendan’s website is www.brendantaaffe.com
URL:https://delicioussoundschoir.co.uk/event/workshop-with-brendan-taaffe/
LOCATION:St Mark’s Church\, Oliver's Battery Road South\, Winchester\, SO22 4EU\, United Kingdom
END:VEVENT
BEGIN:VEVENT
DTSTART;TZID=Europe/London:20170313T193000
DTEND;TZID=Europe/London:20170313T213000
DTSTAMP:20260419T145725
CREATED:20170123T124520Z
LAST-MODIFIED:20170123T124520Z
UID:965-1489433400-1489440600@delicioussoundschoir.co.uk
SUMMARY:Rehearsal
DESCRIPTION:
URL:https://delicioussoundschoir.co.uk/event/rehearsal-41/
LOCATION:St Mark’s Hall\, Archers Road\, Southampton\, Hampshire\, SO15 2LU\, United Kingdom
END:VEVENT
BEGIN:VEVENT
DTSTART;TZID=Europe/London:20170306T193000
DTEND;TZID=Europe/London:20170306T213000
DTSTAMP:20260419T145725
CREATED:20170123T124422Z
LAST-MODIFIED:20170123T124422Z
UID:963-1488828600-1488835800@delicioussoundschoir.co.uk
SUMMARY:Rehearsal
DESCRIPTION:
URL:https://delicioussoundschoir.co.uk/event/rehearsal-40/
LOCATION:St Mark’s Hall\, Archers Road\, Southampton\, Hampshire\, SO15 2LU\, United Kingdom
END:VEVENT
END:VCALENDAR